BEGIN:VCALENDAR
VERSION:2.0
PRODID:-//Tukios.com/
BEGIN:VEVENT
UID:ab264f46-5669-491b-93d1-7c0fc5b5d950@www.johnsoncountychapel.com
DTSTAMP:20260423T001755Z
DTSTART:20260501T140000Z
DTEND:20260501T150000Z
SUMMARY:Visitation
DESCRIPTION:
URL:https://www.johnsoncountychapel.com/obituaries/lakwana-hope
LOCATION: 11200 Metcalf Ave.  Overland Park KS 66210
GEO:38.9247112;-94.6688368
END:VEVENT
END:VCALENDAR