BEGIN:VCALENDAR
VERSION:2.0
PRODID:-//Tukios.com/
BEGIN:VEVENT
UID:755f0be2-17e1-407f-847b-5fee59a641ca@www.johnsoncountychapel.com
DTSTAMP:20260423T001313Z
DTSTART:20260501T150000Z
DTEND:20260501T160000Z
SUMMARY:Funeral Service
DESCRIPTION:
URL:https://www.johnsoncountychapel.com/obituaries/lakwana-hope
LOCATION: 11200 Metcalf Ave.  Overland Park KS 66210
GEO:38.9247112;-94.6688368
END:VEVENT
END:VCALENDAR