BEGIN:VCALENDAR
VERSION:2.0
PRODID:-//Tukios.com/
BEGIN:VEVENT
UID:9cb48d29-7b34-4f07-b5e7-53322491d065@www.johnsoncountychapel.com
DTSTAMP:20260423T001419Z
DTSTART:20260501T163000Z
DTEND:20260501T170000Z
SUMMARY:Graveside Service
DESCRIPTION:
URL:https://www.johnsoncountychapel.com/obituaries/lakwana-hope
LOCATION: 9501 W 159th St  Overland Park KS 66221
GEO:38.8392451;-94.6954642
END:VEVENT
END:VCALENDAR